BEGIN:VCALENDAR
VERSION:2.0
PRODID:-//Deer Harbor Community Club - ECPv6.15.20//NONSGML v1.0//EN
CALSCALE:GREGORIAN
METHOD:PUBLISH
X-ORIGINAL-URL:https://dhcc.us
X-WR-CALDESC:Events for Deer Harbor Community Club
REFRESH-INTERVAL;VALUE=DURATION:PT1H
X-Robots-Tag:noindex
X-PUBLISHED-TTL:PT1H
BEGIN:VTIMEZONE
TZID:America/Vancouver
BEGIN:DAYLIGHT
TZOFFSETFROM:-0800
TZOFFSETTO:-0700
TZNAME:PDT
DTSTART:20250309T100000
END:DAYLIGHT
BEGIN:STANDARD
TZOFFSETFROM:-0700
TZOFFSETTO:-0800
TZNAME:PST
DTSTART:20251102T090000
END:STANDARD
BEGIN:DAYLIGHT
TZOFFSETFROM:-0800
TZOFFSETTO:-0700
TZNAME:PDT
DTSTART:20260308T100000
END:DAYLIGHT
BEGIN:STANDARD
TZOFFSETFROM:-0700
TZOFFSETTO:-0800
TZNAME:PST
DTSTART:20261101T090000
END:STANDARD
BEGIN:DAYLIGHT
TZOFFSETFROM:-0800
TZOFFSETTO:-0700
TZNAME:PDT
DTSTART:20270314T100000
END:DAYLIGHT
BEGIN:STANDARD
TZOFFSETFROM:-0700
TZOFFSETTO:-0800
TZNAME:PST
DTSTART:20271107T090000
END:STANDARD
END:VTIMEZONE
BEGIN:VEVENT
DTSTART;TZID=America/Vancouver:20260423T100000
DTEND;TZID=America/Vancouver:20260423T110000
DTSTAMP:20260424T033723
CREATED:20240704T014235Z
LAST-MODIFIED:20260124T201751Z
UID:10001303-1776938400-1776942000@dhcc.us
SUMMARY:Core Strength Class
DESCRIPTION:Core Strength Class with Eva Petri\nFeel renewed ease in your actions with simple movement exercises! \n$15 per class\, $12 for DHCC members\nIndividual coaching\, class size limited\, drop in.\nPlease bring mats if available \nStrengthen your back and core\, release tension and pain\, gain flexibility. \nLearn about Eva Petri: shanipriya.com\nIndividuals & Groups\, Senior Training\, Yoga & Meditation\n“It gives me great pleasure to put a smile on the faces of my clients through targeted training and professional care.”
URL:https://dhcc.us/event/core-strength-class-7/2026-04-23/
LOCATION:Deer Harbor Schoolhouse\, 4319 Deer Harbor Road\, Eastsound\, WA\, 98245
CATEGORIES:Community Event
GEO:48.6311051;-122.9988268
X-APPLE-STRUCTURED-LOCATION;VALUE=URI;X-ADDRESS=Deer Harbor Schoolhouse 4319 Deer Harbor Road Eastsound WA 98245;X-APPLE-RADIUS=500;X-TITLE=4319 Deer Harbor Road:geo:-122.9988268,48.6311051
END:VEVENT
BEGIN:VEVENT
DTSTART;TZID=America/Vancouver:20260425T100000
DTEND;TZID=America/Vancouver:20260425T140000
DTSTAMP:20260424T033723
CREATED:20260420T171910Z
LAST-MODIFIED:20260420T172201Z
UID:10002963-1777111200-1777125600@dhcc.us
SUMMARY:Knife Sharpening
DESCRIPTION:Bill will sharpen knives again at the Schoolhouse. He comes to us from San Juan Island\, and his service will be dependent on the SJC Ferry. \nHere are the details: \n\nSaturday\, April 25\, 2026 \nFeel free to bring knives\, gardening pruners\, and scissors. (Please\, no serrated knives.)\nDrop off up to 4 items anytime after 10:00am until 2:00pm (boxed or towel wrapped). You’ll receive a text when completed.\nFirst come\, first served. Bill will be able to accommodate around 70 items during the day. Once we reach that threshold\, he may have to limit what he can do.\nMost knives are $1.25 per blade inch. High-end steels and super-fine finishes are $2 per inch. Most garden pruners and scissors are $5 each.\nPay with CASH\, CHECK\, PAYPAL\, or VENMO.
URL:https://dhcc.us/event/knife-sharpening/
LOCATION:Deer Harbor Schoolhouse\, 4319 Deer Harbor Road\, Eastsound\, WA\, 98245
CATEGORIES:Community Event
GEO:48.6311051;-122.9988268
X-APPLE-STRUCTURED-LOCATION;VALUE=URI;X-ADDRESS=Deer Harbor Schoolhouse 4319 Deer Harbor Road Eastsound WA 98245;X-APPLE-RADIUS=500;X-TITLE=4319 Deer Harbor Road:geo:-122.9988268,48.6311051
END:VEVENT
END:VCALENDAR