BEGIN:VCALENDAR
VERSION:2.0
PRODID:-//Deer Harbor Community Club - ECPv6.15.20//NONSGML v1.0//EN
CALSCALE:GREGORIAN
METHOD:PUBLISH
X-WR-CALNAME:Deer Harbor Community Club
X-ORIGINAL-URL:https://dhcc.us
X-WR-CALDESC:Events for Deer Harbor Community Club
REFRESH-INTERVAL;VALUE=DURATION:PT1H
X-Robots-Tag:noindex
X-PUBLISHED-TTL:PT1H
BEGIN:VTIMEZONE
TZID:America/Vancouver
BEGIN:DAYLIGHT
TZOFFSETFROM:-0800
TZOFFSETTO:-0700
TZNAME:PDT
DTSTART:20250309T100000
END:DAYLIGHT
BEGIN:STANDARD
TZOFFSETFROM:-0700
TZOFFSETTO:-0800
TZNAME:PST
DTSTART:20251102T090000
END:STANDARD
BEGIN:DAYLIGHT
TZOFFSETFROM:-0800
TZOFFSETTO:-0700
TZNAME:PDT
DTSTART:20260308T100000
END:DAYLIGHT
BEGIN:STANDARD
TZOFFSETFROM:-0700
TZOFFSETTO:-0800
TZNAME:PST
DTSTART:20261101T090000
END:STANDARD
BEGIN:DAYLIGHT
TZOFFSETFROM:-0800
TZOFFSETTO:-0700
TZNAME:PDT
DTSTART:20270314T100000
END:DAYLIGHT
BEGIN:STANDARD
TZOFFSETFROM:-0700
TZOFFSETTO:-0800
TZNAME:PST
DTSTART:20271107T090000
END:STANDARD
END:VTIMEZONE
BEGIN:VEVENT
DTSTART;TZID=America/Vancouver:20260410T180000
DTEND;TZID=America/Vancouver:20260410T200000
DTSTAMP:20260424T052507
CREATED:20240417T233210Z
LAST-MODIFIED:20260220T150935Z
UID:10000852-1775844000-1775851200@dhcc.us
SUMMARY:DHCC Member Potluck
DESCRIPTION:DHCC Member Event
URL:https://dhcc.us/event/dhcc-member-potluck-2/2026-04-10/
LOCATION:Deer Harbor Schoolhouse\, 4319 Deer Harbor Road\, Eastsound\, WA\, 98245
CATEGORIES:DHCC Member Event
GEO:48.6311051;-122.9988268
X-APPLE-STRUCTURED-LOCATION;VALUE=URI;X-ADDRESS=Deer Harbor Schoolhouse 4319 Deer Harbor Road Eastsound WA 98245;X-APPLE-RADIUS=500;X-TITLE=4319 Deer Harbor Road:geo:-122.9988268,48.6311051
END:VEVENT
END:VCALENDAR